Package: MSstats Version: 4.16.1 Command: /Library/Frameworks/R.framework/Resources/bin/R CMD check --install=check:MSstats.install-out.txt --library=/Library/Frameworks/R.framework/Resources/library --no-vignettes --timings MSstats_4.16.1.tar.gz StartedAt: 2025-09-30 06:55:35 -0400 (Tue, 30 Sep 2025) EndedAt: 2025-09-30 07:00:22 -0400 (Tue, 30 Sep 2025) EllapsedTime: 287.4 seconds RetCode: 0 Status: WARNINGS CheckDir: MSstats.Rcheck Warnings: 1