Package: MSPrep Version: 1.18.0 Command: /home/biocbuild/bbs-3.21-bioc/R/bin/R CMD check --install=check:MSPrep.install-out.txt --library=/home/biocbuild/bbs-3.21-bioc/R/site-library --timings MSPrep_1.18.0.tar.gz StartedAt: 2025-10-16 01:25:56 -0400 (Thu, 16 Oct 2025) EndedAt: 2025-10-16 01:34:56 -0400 (Thu, 16 Oct 2025) EllapsedTime: 540.7 seconds RetCode: 0 Status: OK CheckDir: MSPrep.Rcheck Warnings: 0