Package: MSPrep Version: 1.18.0 Command: /home/biocbuild/R/R/bin/R CMD INSTALL MSPrep StartedAt: 2025-10-13 21:17:24 -0000 (Mon, 13 Oct 2025) EndedAt: 2025-10-13 21:18:10 -0000 (Mon, 13 Oct 2025) EllapsedTime: 46.3 seconds RetCode: 0 Status: OK