Package: MSPrep Version: 1.18.0 Command: /home/biocbuild/R/R/bin/R CMD check --install=check:MSPrep.install-out.txt --library=/home/biocbuild/R/R/site-library --no-vignettes --timings MSPrep_1.18.0.tar.gz StartedAt: 2025-10-14 11:40:08 -0000 (Tue, 14 Oct 2025) EndedAt: 2025-10-14 11:50:38 -0000 (Tue, 14 Oct 2025) EllapsedTime: 630.6 seconds RetCode: 1 Status: ERROR CheckDir: MSPrep.Rcheck Warnings: NA