Package: MSPrep Version: 1.18.0 Command: /home/biocbuild/R/R/bin/R CMD build --keep-empty-dirs --no-resave-data MSPrep StartedAt: 2025-10-14 02:51:40 -0000 (Tue, 14 Oct 2025) EndedAt: 2025-10-14 02:55:15 -0000 (Tue, 14 Oct 2025) EllapsedTime: 215.2 seconds RetCode: 0 Status: OK PackageFile: MSPrep_1.18.0.tar.gz PackageFileSize: 1.64 MiB