Package: MSPrep Version: 1.18.0 Command: /Library/Frameworks/R.framework/Resources/bin/R CMD check --install=check:MSPrep.install-out.txt --library=/Library/Frameworks/R.framework/Resources/library --no-vignettes --timings MSPrep_1.18.0.tar.gz StartedAt: 2025-10-15 05:05:37 -0400 (Wed, 15 Oct 2025) EndedAt: 2025-10-15 05:14:34 -0400 (Wed, 15 Oct 2025) EllapsedTime: 537.4 seconds RetCode: 1 Status: ERROR CheckDir: MSPrep.Rcheck Warnings: NA