Package: MSA2dist Version: 1.14.0 Command: /home/biocbuild/bbs-3.22-bioc/R/bin/R CMD build --keep-empty-dirs --no-resave-data --md5 MSA2dist StartedAt: 2025-11-06 18:51:58 -0500 (Thu, 06 Nov 2025) EndedAt: 2025-11-06 18:53:25 -0500 (Thu, 06 Nov 2025) EllapsedTime: 87.1 seconds RetCode: 0 Status: OK PackageFile: MSA2dist_1.14.0.tar.gz PackageFileSize: 984.7 KiB