Package: MPFE Version: 1.45.0 Command: F:\biocbuild\bbs-3.22-bioc\R\bin\R.exe CMD check --no-multiarch --install=check:MPFE.install-out.txt --library=F:\biocbuild\bbs-3.22-bioc\R\library --no-vignettes --timings MPFE_1.45.0.tar.gz StartedAt: 2025-08-15 05:26:38 -0400 (Fri, 15 Aug 2025) EndedAt: 2025-08-15 05:27:07 -0400 (Fri, 15 Aug 2025) EllapsedTime: 28.8 seconds RetCode: 0 Status: OK CheckDir: MPFE.Rcheck Warnings: 0