Package: MPFE Version: 1.44.0 Command: rm -rf MPFE.buildbin-libdir && mkdir MPFE.buildbin-libdir && E:\biocbuild\bbs-3.21-bioc\R\bin\R.exe CMD INSTALL --build --library=MPFE.buildbin-libdir MPFE_1.44.0.tar.gz StartedAt: 2025-08-15 09:46:03 -0400 (Fri, 15 Aug 2025) EndedAt: 2025-08-15 09:46:08 -0400 (Fri, 15 Aug 2025) EllapsedTime: 5.3 seconds RetCode: 0 Status: OK PackageFile: MPFE_1.44.0.zip PackageFileSize: 132 KiB