Package: MPFE Version: 1.44.0 Command: /Library/Frameworks/R.framework/Resources/bin/R CMD check --install=check:MPFE.install-out.txt --library=/Library/Frameworks/R.framework/Resources/library --no-vignettes --timings MPFE_1.44.0.tar.gz StartedAt: 2025-09-26 06:44:58 -0400 (Fri, 26 Sep 2025) EndedAt: 2025-09-26 06:45:38 -0400 (Fri, 26 Sep 2025) EllapsedTime: 39.7 seconds RetCode: 0 Status: OK CheckDir: MPFE.Rcheck Warnings: 0