Package: MPFE Version: 1.44.0 Command: rm -rf MPFE.buildbin-libdir && mkdir MPFE.buildbin-libdir && /Users/biocbuild/BBS/utils/build-universal.sh MPFE_1.44.0.tar.gz /Library/Frameworks/R.framework/Resources/bin/R MPFE.buildbin-libdir StartedAt: 2025-09-30 13:51:14 -0400 (Tue, 30 Sep 2025) EndedAt: 2025-09-30 13:51:20 -0400 (Tue, 30 Sep 2025) EllapsedTime: 6.5 seconds RetCode: 0 Status: OK PackageFile: MPFE_1.44.0.tgz PackageFileSize: 216.8 KiB