Package: MPFE Version: 1.44.0 Command: /Library/Frameworks/R.framework/Resources/bin/R CMD build --keep-empty-dirs --no-resave-data MPFE StartedAt: 2025-04-21 17:36:32 -0400 (Mon, 21 Apr 2025) EndedAt: 2025-04-21 17:36:49 -0400 (Mon, 21 Apr 2025) EllapsedTime: 17.1 seconds RetCode: 0 Status: OK PackageFile: MPFE_1.44.0.tar.gz PackageFileSize: 190.5 KiB