Package: MOSim Version: 2.6.0 Command: /home/biocbuild/R/R/bin/R CMD INSTALL MOSim StartedAt: 2025-11-17 22:06:59 -0000 (Mon, 17 Nov 2025) EndedAt: 2025-11-17 22:07:58 -0000 (Mon, 17 Nov 2025) EllapsedTime: 59.5 seconds RetCode: 0 Status: OK