Package: MOSim Version: 2.6.0 Command: /home/biocbuild/R/R/bin/R CMD check --install=check:MOSim.install-out.txt --library=/home/biocbuild/R/R/site-library --no-vignettes --timings MOSim_2.6.0.tar.gz StartedAt: 2025-11-21 13:06:06 -0000 (Fri, 21 Nov 2025) EndedAt: 2025-11-21 13:24:14 -0000 (Fri, 21 Nov 2025) EllapsedTime: 1088.1 seconds RetCode: 0 Status: WARNINGS CheckDir: MOSim.Rcheck Warnings: 1