Package: MOSim Version: 2.6.0 Command: /home/biocbuild/R/R/bin/R CMD build --keep-empty-dirs --no-resave-data MOSim StartedAt: 2025-11-18 03:19:52 -0000 (Tue, 18 Nov 2025) EndedAt: 2025-11-18 03:29:36 -0000 (Tue, 18 Nov 2025) EllapsedTime: 584.4 seconds RetCode: 0 Status: OK PackageFile: MOSim_2.6.0.tar.gz PackageFileSize: 6.408 MiB