Package: MOMA Version: 1.20.0 Command: /Library/Frameworks/R.framework/Resources/bin/R CMD check --install=check:MOMA.install-out.txt --library=/Library/Frameworks/R.framework/Resources/library --no-vignettes --timings MOMA_1.20.0.tar.gz StartedAt: 2025-09-30 06:38:04 -0400 (Tue, 30 Sep 2025) EndedAt: 2025-09-30 06:45:32 -0400 (Tue, 30 Sep 2025) EllapsedTime: 447.9 seconds RetCode: 0 Status: OK CheckDir: MOMA.Rcheck Warnings: 0