Package: MOMA Version: 1.20.0 Command: /Library/Frameworks/R.framework/Resources/bin/R CMD build --keep-empty-dirs --no-resave-data MOMA StartedAt: 2025-09-29 20:43:09 -0400 (Mon, 29 Sep 2025) EndedAt: 2025-09-29 20:48:40 -0400 (Mon, 29 Sep 2025) EllapsedTime: 331.5 seconds RetCode: 0 Status: OK PackageFile: MOMA_1.20.0.tar.gz PackageFileSize: 4.264 MiB