Package: MOMA Version: 1.20.0 Command: /Library/Frameworks/R.framework/Resources/bin/R CMD build --keep-empty-dirs --no-resave-data MOMA StartedAt: 2025-09-26 04:41:36 -0400 (Fri, 26 Sep 2025) EndedAt: 2025-09-26 04:44:07 -0400 (Fri, 26 Sep 2025) EllapsedTime: 151.2 seconds RetCode: 0 Status: OK PackageFile: MOMA_1.20.0.tar.gz PackageFileSize: 4.264 MiB