Package: MOGAMUN Version: 1.20.0 Command: /home/biocbuild/bbs-3.22-bioc/R/bin/R CMD build --keep-empty-dirs --no-resave-data --md5 MOGAMUN StartedAt: 2025-11-06 18:47:23 -0500 (Thu, 06 Nov 2025) EndedAt: 2025-11-06 18:47:35 -0500 (Thu, 06 Nov 2025) EllapsedTime: 12.0 seconds RetCode: 0 Status: OK PackageFile: MOGAMUN_1.20.0.tar.gz PackageFileSize: 126.8 KiB