Package: MOGAMUN Version: 1.20.0 Command: /Library/Frameworks/R.framework/Resources/bin/R CMD check --install=check:MOGAMUN.install-out.txt --library=/Library/Frameworks/R.framework/Resources/library --no-vignettes --timings MOGAMUN_1.20.0.tar.gz StartedAt: 2025-11-09 20:52:01 -0500 (Sun, 09 Nov 2025) EndedAt: 2025-11-09 20:52:25 -0500 (Sun, 09 Nov 2025) EllapsedTime: 23.3 seconds RetCode: 0 Status: OK CheckDir: MOGAMUN.Rcheck Warnings: 0