Package: MOGAMUN Version: 1.20.0 Command: rm -rf MOGAMUN.buildbin-libdir && mkdir MOGAMUN.buildbin-libdir && /Users/biocbuild/BBS/utils/build-universal.sh MOGAMUN_1.20.0.tar.gz /Library/Frameworks/R.framework/Resources/bin/R MOGAMUN.buildbin-libdir StartedAt: 2025-11-09 23:15:45 -0500 (Sun, 09 Nov 2025) EndedAt: 2025-11-09 23:15:49 -0500 (Sun, 09 Nov 2025) EllapsedTime: 4.1 seconds RetCode: 0 Status: OK PackageFile: MOGAMUN_1.20.0.tgz PackageFileSize: 175.6 KiB