Package: MOFA2 Version: 1.18.0 Command: /Library/Frameworks/R.framework/Resources/bin/R CMD INSTALL MOFA2 StartedAt: 2025-09-25 16:03:59 -0400 (Thu, 25 Sep 2025) EndedAt: 2025-09-25 16:04:54 -0400 (Thu, 25 Sep 2025) EllapsedTime: 54.6 seconds RetCode: 0 Status: OK