Package: MOFA2 Version: 1.18.0 Command: /Library/Frameworks/R.framework/Resources/bin/R CMD check --install=check:MOFA2.install-out.txt --library=/Library/Frameworks/R.framework/Resources/library --no-vignettes --timings MOFA2_1.18.0.tar.gz StartedAt: 2025-09-30 06:34:50 -0400 (Tue, 30 Sep 2025) EndedAt: 2025-09-30 06:42:55 -0400 (Tue, 30 Sep 2025) EllapsedTime: 484.4 seconds RetCode: 0 Status: WARNINGS CheckDir: MOFA2.Rcheck Warnings: 1