Package: MOFA2 Version: 1.18.0 Command: /Library/Frameworks/R.framework/Resources/bin/R CMD build --keep-empty-dirs --no-resave-data MOFA2 StartedAt: 2025-09-29 20:42:50 -0400 (Mon, 29 Sep 2025) EndedAt: 2025-09-29 20:52:08 -0400 (Mon, 29 Sep 2025) EllapsedTime: 558.4 seconds RetCode: 0 Status: OK PackageFile: MOFA2_1.18.0.tar.gz PackageFileSize: 4.349 MiB