Package: MOFA2 Version: 1.18.0 Command: rm -rf MOFA2.buildbin-libdir && mkdir MOFA2.buildbin-libdir && /Users/biocbuild/BBS/utils/build-universal.sh MOFA2_1.18.0.tar.gz /Library/Frameworks/R.framework/Resources/bin/R MOFA2.buildbin-libdir StartedAt: 2025-09-30 13:49:19 -0400 (Tue, 30 Sep 2025) EndedAt: 2025-09-30 13:50:51 -0400 (Tue, 30 Sep 2025) EllapsedTime: 92.3 seconds RetCode: 0 Status: OK PackageFile: MOFA2_1.18.0.tgz PackageFileSize: 4.989 MiB