Package: MMUPHin Version: 1.22.0 Command: chmod a+r MMUPHin -R && E:\biocbuild\bbs-3.21-bioc\R\bin\R.exe CMD build --keep-empty-dirs --no-resave-data MMUPHin StartedAt: 2025-08-14 20:30:24 -0400 (Thu, 14 Aug 2025) EndedAt: 2025-08-14 20:32:22 -0400 (Thu, 14 Aug 2025) EllapsedTime: 117.7 seconds RetCode: 0 Status: OK PackageFile: MMUPHin_1.22.0.tar.gz PackageFileSize: 3.376 MiB