Package: MMUPHin Version: 1.22.0 Command: rm -rf MMUPHin.buildbin-libdir && mkdir MMUPHin.buildbin-libdir && E:\biocbuild\bbs-3.21-bioc\R\bin\R.exe CMD INSTALL --build --library=MMUPHin.buildbin-libdir MMUPHin_1.22.0.tar.gz StartedAt: 2025-08-15 09:44:20 -0400 (Fri, 15 Aug 2025) EndedAt: 2025-08-15 09:44:46 -0400 (Fri, 15 Aug 2025) EllapsedTime: 26.0 seconds RetCode: 0 Status: OK PackageFile: MMUPHin_1.22.0.zip PackageFileSize: 2.394 MiB