Package: MMUPHin Version: 1.22.0 Command: /Library/Frameworks/R.framework/Resources/bin/R CMD INSTALL MMUPHin StartedAt: 2025-10-13 18:40:56 -0400 (Mon, 13 Oct 2025) EndedAt: 2025-10-13 18:41:05 -0400 (Mon, 13 Oct 2025) EllapsedTime: 9.2 seconds RetCode: 0 Status: OK