Package: MMUPHin Version: 1.22.0 Command: /Library/Frameworks/R.framework/Resources/bin/R CMD check --install=check:MMUPHin.install-out.txt --library=/Library/Frameworks/R.framework/Resources/library --no-vignettes --timings MMUPHin_1.22.0.tar.gz StartedAt: 2025-10-15 04:15:51 -0400 (Wed, 15 Oct 2025) EndedAt: 2025-10-15 04:17:53 -0400 (Wed, 15 Oct 2025) EllapsedTime: 122.0 seconds RetCode: 0 Status: OK CheckDir: MMUPHin.Rcheck Warnings: 0