Package: MMUPHin Version: 1.22.0 Command: /Library/Frameworks/R.framework/Resources/bin/R CMD build --keep-empty-dirs --no-resave-data MMUPHin StartedAt: 2025-10-14 04:43:50 -0400 (Tue, 14 Oct 2025) EndedAt: 2025-10-14 04:45:09 -0400 (Tue, 14 Oct 2025) EllapsedTime: 78.7 seconds RetCode: 0 Status: OK PackageFile: MMUPHin_1.22.0.tar.gz PackageFileSize: 3.565 MiB