Package: MMUPHin Version: 1.22.0 Command: rm -rf MMUPHin.buildbin-libdir && mkdir MMUPHin.buildbin-libdir && /Users/biocbuild/BBS/utils/build-universal.sh MMUPHin_1.22.0.tar.gz /Library/Frameworks/R.framework/Resources/bin/R MMUPHin.buildbin-libdir StartedAt: 2025-10-15 19:23:23 -0400 (Wed, 15 Oct 2025) EndedAt: 2025-10-15 19:23:35 -0400 (Wed, 15 Oct 2025) EllapsedTime: 12.5 seconds RetCode: 0 Status: OK PackageFile: MMUPHin_1.22.0.tgz PackageFileSize: 2.579 MiB