Package: MMDiff2 Version: 1.37.1 Command: /home/biocbuild/R/R/bin/R CMD check --install=check:MMDiff2.install-out.txt --library=/home/biocbuild/R/R/site-library --no-vignettes --timings MMDiff2_1.37.1.tar.gz StartedAt: 2025-10-17 11:11:00 -0000 (Fri, 17 Oct 2025) EndedAt: 2025-10-17 11:17:29 -0000 (Fri, 17 Oct 2025) EllapsedTime: 389.4 seconds RetCode: 0 Status: OK CheckDir: MMDiff2.Rcheck Warnings: 0