Package: MLSeq Version: 2.26.0 Command: /home/biocbuild/R/R/bin/R CMD check --install=check:MLSeq.install-out.txt --library=/home/biocbuild/R/R/site-library --no-vignettes --timings MLSeq_2.26.0.tar.gz StartedAt: 2025-09-26 12:45:15 -0000 (Fri, 26 Sep 2025) EndedAt: 2025-09-26 12:50:17 -0000 (Fri, 26 Sep 2025) EllapsedTime: 302.3 seconds RetCode: 0 Status: OK CheckDir: MLSeq.Rcheck Warnings: 0