Package: MLP Version: 1.58.0 Command: /home/biocbuild/bbs-3.22-bioc/R/bin/R CMD INSTALL MLP StartedAt: 2025-11-09 15:31:45 -0500 (Sun, 09 Nov 2025) EndedAt: 2025-11-09 15:31:57 -0500 (Sun, 09 Nov 2025) EllapsedTime: 12.1 seconds RetCode: 0 Status: OK