Package: MLInterfaces Version: 1.90.0 Command: /Library/Frameworks/R.framework/Resources/bin/R CMD check --install=check:MLInterfaces.install-out.txt --library=/Library/Frameworks/R.framework/Resources/library --no-vignettes --timings MLInterfaces_1.90.0.tar.gz StartedAt: 2025-11-09 20:50:33 -0500 (Sun, 09 Nov 2025) EndedAt: 2025-11-09 20:52:03 -0500 (Sun, 09 Nov 2025) EllapsedTime: 90.0 seconds RetCode: 0 Status: WARNINGS CheckDir: MLInterfaces.Rcheck Warnings: 1