Package: MLInterfaces Version: 1.90.0 Maintainer: Vincent Carey MaintainerEmail: stvjc at channing.harvard.edu git_url: https://git.bioconductor.org/packages/MLInterfaces git_branch: RELEASE_3_22 git_last_commit: 2d5da27 git_last_commit_date: 2025-10-29 09:55:18 -0500 (Wed, 29 Oct 2025)