Package: MIRit Version: 1.6.0 Command: /home/biocbuild/R/R/bin/R CMD build --keep-empty-dirs --no-resave-data MIRit StartedAt: 2025-11-14 03:21:02 -0000 (Fri, 14 Nov 2025) EndedAt: 2025-11-14 03:22:43 -0000 (Fri, 14 Nov 2025) EllapsedTime: 101.1 seconds RetCode: 0 Status: OK PackageFile: MIRit_1.6.0.tar.gz PackageFileSize: 2.326 MiB