Package: MIRit Version: 1.6.0 Command: /Library/Frameworks/R.framework/Resources/bin/R CMD build --keep-empty-dirs --no-resave-data MIRit StartedAt: 2025-11-03 17:46:44 -0500 (Mon, 03 Nov 2025) EndedAt: 2025-11-03 17:48:14 -0500 (Mon, 03 Nov 2025) EllapsedTime: 90.3 seconds RetCode: 0 Status: OK PackageFile: MIRit_1.6.0.tar.gz PackageFileSize: 2.699 MiB