Package: MIRit Version: 1.6.0 Command: rm -rf MIRit.buildbin-libdir && mkdir MIRit.buildbin-libdir && /Users/biocbuild/BBS/utils/build-universal.sh MIRit_1.6.0.tar.gz /Library/Frameworks/R.framework/Resources/bin/R MIRit.buildbin-libdir StartedAt: 2025-11-04 01:50:15 -0500 (Tue, 04 Nov 2025) EndedAt: 2025-11-04 01:51:14 -0500 (Tue, 04 Nov 2025) EllapsedTime: 58.8 seconds RetCode: 0 Status: OK PackageFile: MIRit_1.6.0.tgz PackageFileSize: 3.023 MiB