Package: MIRA Version: 1.30.0 Command: chmod a+r MIRA -R && E:\biocbuild\bbs-3.21-bioc\R\bin\R.exe CMD build --keep-empty-dirs --no-resave-data MIRA StartedAt: 2025-08-14 20:26:49 -0400 (Thu, 14 Aug 2025) EndedAt: 2025-08-14 20:28:14 -0400 (Thu, 14 Aug 2025) EllapsedTime: 85.4 seconds RetCode: 0 Status: OK PackageFile: MIRA_1.30.0.tar.gz PackageFileSize: 1.749 MiB