Package: MIRA Version: 1.30.0 Command: /home/biocbuild/bbs-3.21-bioc/R/bin/R CMD INSTALL MIRA StartedAt: 2025-10-15 15:35:47 -0400 (Wed, 15 Oct 2025) EndedAt: 2025-10-15 15:36:27 -0400 (Wed, 15 Oct 2025) EllapsedTime: 40.2 seconds RetCode: 0 Status: OK