Package: MIRA Version: 1.30.0 Command: /home/biocbuild/bbs-3.21-bioc/R/bin/R CMD build --keep-empty-dirs --no-resave-data MIRA StartedAt: 2025-10-15 18:32:34 -0400 (Wed, 15 Oct 2025) EndedAt: 2025-10-15 18:33:41 -0400 (Wed, 15 Oct 2025) EllapsedTime: 67.0 seconds RetCode: 0 Status: OK PackageFile: MIRA_1.30.0.tar.gz PackageFileSize: 2.505 MiB