Package: MIRA Version: 1.30.0 Command: /Library/Frameworks/R.framework/Resources/bin/R CMD build --keep-empty-dirs --no-resave-data MIRA StartedAt: 2025-10-13 20:34:27 -0400 (Mon, 13 Oct 2025) EndedAt: 2025-10-13 20:36:59 -0400 (Mon, 13 Oct 2025) EllapsedTime: 151.5 seconds RetCode: 0 Status: OK PackageFile: MIRA_1.30.0.tar.gz PackageFileSize: 2.532 MiB