Package: MIRA Version: 1.30.0 Command: rm -rf MIRA.buildbin-libdir && mkdir MIRA.buildbin-libdir && /Users/biocbuild/BBS/utils/build-universal.sh MIRA_1.30.0.tar.gz /Library/Frameworks/R.framework/Resources/bin/R MIRA.buildbin-libdir StartedAt: 2025-10-14 14:04:32 -0400 (Tue, 14 Oct 2025) EndedAt: 2025-10-14 14:06:50 -0400 (Tue, 14 Oct 2025) EllapsedTime: 138.5 seconds RetCode: 0 Status: OK PackageFile: MIRA_1.30.0.tgz PackageFileSize: 2.582 MiB