Package: MIRA Version: 1.30.0 Command: /Library/Frameworks/R.framework/Resources/bin/R CMD check --install=check:MIRA.install-out.txt --library=/Library/Frameworks/R.framework/Resources/library --no-vignettes --timings MIRA_1.30.0.tar.gz StartedAt: 2025-04-21 20:20:56 -0400 (Mon, 21 Apr 2025) EndedAt: 2025-04-21 20:22:56 -0400 (Mon, 21 Apr 2025) EllapsedTime: 119.4 seconds RetCode: 0 Status: OK CheckDir: MIRA.Rcheck Warnings: 0