############################################################################## ############################################################################## ### ### Running command: ### ### /Library/Frameworks/R.framework/Resources/bin/R CMD INSTALL MGnifyR ### ############################################################################## ############################################################################## * installing to library ‘/Library/Frameworks/R.framework/Versions/4.5-arm64/Resources/library’ * installing *source* package ‘MGnifyR’ ... ** this is package ‘MGnifyR’ version ‘1.6.0’ ** using staged installation ** R ** inst ** byte-compile and prepare package for lazy loading Error: object ‘at_depth’ is not exported by 'namespace:purrr' Execution halted ERROR: lazy loading failed for package ‘MGnifyR’ * removing ‘/Library/Frameworks/R.framework/Versions/4.5-arm64/Resources/library/MGnifyR’ * restoring previous ‘/Library/Frameworks/R.framework/Versions/4.5-arm64/Resources/library/MGnifyR’