Package: MGFR Version: 1.35.0 Command: /home/biocbuild/bbs-3.22-bioc/R/bin/R CMD check --install=check:MGFR.install-out.txt --library=/home/biocbuild/bbs-3.22-bioc/R/site-library --timings MGFR_1.35.0.tar.gz StartedAt: 2025-09-17 01:26:24 -0400 (Wed, 17 Sep 2025) EndedAt: 2025-09-17 01:28:45 -0400 (Wed, 17 Sep 2025) EllapsedTime: 141.1 seconds RetCode: 0 Status: OK CheckDir: MGFR.Rcheck Warnings: 0