Package: MGFR Version: 1.36.0 Command: /home/biocbuild/bbs-3.22-bioc/R/bin/R CMD build --keep-empty-dirs --no-resave-data --md5 MGFR StartedAt: 2025-11-11 18:45:50 -0500 (Tue, 11 Nov 2025) EndedAt: 2025-11-11 18:46:14 -0500 (Tue, 11 Nov 2025) EllapsedTime: 24.0 seconds RetCode: 1 Status: ERROR PackageFile: None PackageFileSize: NA