Package: MGFR Version: 1.34.0 Command: /Library/Frameworks/R.framework/Resources/bin/R CMD check --install=check:MGFR.install-out.txt --library=/Library/Frameworks/R.framework/Resources/library --no-vignettes --timings MGFR_1.34.0.tar.gz StartedAt: 2025-10-14 06:27:13 -0400 (Tue, 14 Oct 2025) EndedAt: 2025-10-14 06:31:28 -0400 (Tue, 14 Oct 2025) EllapsedTime: 254.9 seconds RetCode: 0 Status: OK CheckDir: MGFR.Rcheck Warnings: 0