Package: MGFR Version: 1.34.0 Command: /Library/Frameworks/R.framework/Resources/bin/R CMD check --install=check:MGFR.install-out.txt --library=/Library/Frameworks/R.framework/Resources/library --no-vignettes --timings MGFR_1.34.0.tar.gz StartedAt: 2025-04-21 21:51:06 -0400 (Mon, 21 Apr 2025) EndedAt: 2025-04-21 21:53:33 -0400 (Mon, 21 Apr 2025) EllapsedTime: 146.9 seconds RetCode: 0 Status: OK CheckDir: MGFR.Rcheck Warnings: 0